Workbook

Sheet Interface
B3: Water Pump Sizing Tool
B4: This tool has been created to estimate a minimum requirement for the size of water pump (hp) you may need for your irrigation system without over pumping your water source.
B5: It was written as part of the MIT CITE Solar Water Pump Evaluation (cite.mit.edu) in collaboration with Technology Exchange Lab (www.techxlab.org).
B6: The full report can be found at: http://cite.mit.edu/reports/solar-powered-water-pumps
B11: Any boxes in Green can be edited to fit your system. All other cells can be edited by "unprotecting" the worksheets (no password required)
B13: Crop Values | C13: Units | D13: Value | F13: Calculated Values
B14: Size of plot | C14: acres | D14: 10 | F14: =VLOOKUP(C14,Units!B3:C5,2,FALSE)*D14 -> 40468.6 | G14: m2
B15: Average rainfall (during required season) | C15: mm/month | D15: 15 | F15: =VLOOKUP(C15,Units!B8:C9,2,FALSE)*D15 -> 15 | G15: mm/month
B16: *Total Water Requirement (for entire plot) | C16: =VLOOKUP(B16,Units!B24:C25,2,FALSE) -> L/day | D16: 20000 | F16: =D16 -> 20000 | G16: =C16 -> L/day
B17: *Your water requirement can be entered either as a Total Water Requirement [L/day] or (if known for your crops and region) as the Crop Water requirement [L/m2/day]. When using Total Water Requirement Size of Plot and Average rainfall will not be used in the calculations.
B20: Water Source Values | C20: Units | D20: Value
B21: Height from water surface to pumped water end point | C21: m | D21: 20 | F21: =VLOOKUP(C21,Units!$B$12:$C$16,2,FALSE)*D21 -> 20 | G21: m
B22: Diameter of well | C22: m | D22: 15 | F22: =VLOOKUP(C22,Units!$B$12:$C$16,2,FALSE)*D22 -> 15 | G22: m
B23: Recharge rate | C23: m/hr | D23: 1 | F23: =VLOOKUP(C23,Units!$B$19:$C$22,2,FALSE)*D23 -> 1 | G23: m/hr
B24: Depth of water | C24: m | D24: 50 | F24: =VLOOKUP(C24,Units!$B$12:$C$16,2,FALSE)*D24 -> 50 | G24: m
B26: Irrigation System Values | C26: Units | D26: Value
B27: Horizontal pipe distance | C27: m | D27: 20 | F27: =VLOOKUP(C27,Units!$B$12:$C$16,2,FALSE)*D27 -> 20 | G27: m
B28: Pipe diameter | C28: cm | D28: 50 | F28: =VLOOKUP(C28,Units!$B$12:$C$16,2,FALSE)*D28 -> 5000 | G28: m
B29: Pump Efficicency (Typically 50-85%) | C29: % | D29: 60 | F29: =D29/100 -> 0.6 | G29: %
B30: Desired pumping hours | C30: hrs | D30: 2 | F30: =D30 -> 2 | G30: hrs
B33: Minimum required Horse-Power (HP) | F33: =ROUND(Calculations!D18/Interface!F29,2) -> 1.3 | G33: hp
B34: Water volume change per pumping session** | F34: =Calculations!D6-Calculations!D4*F30+Calculations!D7*F30 -> 9169.1585 | G34: m^3/hr
B35: **Note: if this value is negative you are over pumping your water source.
B38: This work is licensed under the Creative Commons Attribution-ShareAlike 4.0 International License. To view a copy of this license visit: http://creativecommons.org/licenses/by-sa/4.0/

Sheet Constants
A1: Water density | B1: kg/m^3 | C1: 1000
A2: Viscosity | B2: Pa.s | C2: =8.94*10^-4 -> 0.000894
A3: Gravity | B3: m/s^2 | C3: 9.81
A4: Atmospheric Pressure | B4: Pa | C4: =101*10^3 -> 101000
A5: Roughness | C5: 1
A6: KE_coeff_laminar | C6: 2
A7: KE_coeff_turbulent | C7: 1.04
A8: h_turbine | C8: 0
A9: K | C9: 0.8
A10: ground level | C10: 0

Sheet Calculations
B1: Daily irrigation requirement | C1: L/m2/day | D1: =IF(Interface!F16-Calculations!D2/30>0,Interface!F16-Calculations!D2/30,0) -> 20000
B2: Effective rainfall | C2: mm/month | D2: =IF(Interface!F15>75,IF(0.8*Interface!F15-25>0,0.8*Interface!F15-25,0),IF(0.6*Interface!F15-10>0,0.6*Interface!F15-10,0)) -> 0
B3: Flow Rate | C3: L/hr | D3: =Calculations!D5/Interface!F30 -> 10000
B4: Volumetric flow rate | C4: m3/hr | D4: =(D3)/1000 -> 10
B5: Total irrigation requirement | C5: L/day | D5: =IF(Interface!C16="L/day",Interface!F16,Calculations!D1*Interface!F14) -> 20000
B6: Volume of water in well | C6: m^3 | D6: =PI()*(Interface!F22/2)^2*Interface!F24 -> 8835.7293
B7: Volumetric recharge rate | C7: m^3/hr | D7: =PI()*(Interface!F22/2)^2*Interface!F23 -> 176.71459
B8: Pipe cross-sectional area | C8: m^2 | D8: =PI()*(Interface!F28/2)^2 -> 19634954
B9: Flow velocity | C9: m/s | D9: =(Calculations!D4/D8)/3600 -> 1.4147106e-10
B11: Reynolds number | D11: =(Constants!C1*Calculations!D9*Interface!F28)/Constants!C2 -> 0.79122517
B12: Friction factor | D12: =IF(D11<=2300,64/D11,0.316*(D11^(-0.25))) -> 80.887214
B13: KE | D13: =IF(D11<=2300,2,1.08) -> 2
B14: Friction loss | C14: m | D14: =(Calculations!F21/(Interface!F28*2*Constants!C3))*Calculations!D12*Calculations!D9^2 -> 1.4852125e-21
B16: Total Dynamic Head (including friction) | C16: m | D16: =D14+Interface!F21+Interface!F24 -> 70
B18: base hp required | D18: =Calculations!D16*(Calculations!D3/227.124707)*1/3960 -> 0.77828467
B21: Total length of pipe | C21: m | D21: =Interface!D27+Interface!D24+Interface!D21 -> 90 | F21: =Interface!F27+Interface!F24+Interface!F21 -> 90 | G21: m

Sheet Units
C1: Conversion to:
C2: m^2
B3: m^2 | C3: 1
B4: acres | C4: 4046.86
B5: km^2 | C5: 1000000
C7: mm/month
B8: mm/month | C8: 1
B9: mm/day | C9: 30
C11: m
B12: m | C12: 1
B13: cm | C13: 100
B14: mm | C14: 1000
B15: ft | C15: 0.3048
B16: inches | C16: 0.0254
C18: m/hr
B19: m/hr | C19: 1
B20: ft/hr | C20: 0.3048
B21: m/min | C21: =1/60 -> 0.016666667
B22: ft/min | C22: =C20/60 -> 0.00508
B24: *Total Water Requirement (for entire plot) | C24: L/day
B25: *Crop Water requirement (based on crop types and your geographical location) | C25: L/m2/day
